BEGIN:VCALENDAR
VERSION:2.0
PRODID:-//Space Academy - ECPv4.5.2//NONSGML v1.0//EN
CALSCALE:GREGORIAN
METHOD:PUBLISH
X-WR-CALNAME:Space Academy
X-ORIGINAL-URL:http://spaceacademy.ac.nz
X-WR-CALDESC:Events for Space Academy
BEGIN:VEVENT
DTSTART;TZID=UTC+0:20170607T190000
DTEND;TZID=UTC+0:20170607T190000
DTSTAMP:20180125T154358
CREATED:20170524T073738Z
LAST-MODIFIED:20170524T073738Z
UID:298-1496862000-1496862000@spaceacademy.ac.nz
SUMMARY:Catalyst: A Poetic Odyssey - poetry open mic
DESCRIPTION:There's a microphone. It's open. There'll be poets. Maybe poetry. You get the picture. BYO poetry\, open minds\, koha money.
URL:http://spaceacademy.ac.nz/event/catalyst-a-poetic-odyssey-poetry-open-mic/
CATEGORIES:spoken word
ATTACH;FMTTYPE=image/jpeg:http://spaceacademy.ac.nz/wp-content/uploads/16237543_2164750003750801_998984931_n.jpg
END:VEVENT
END:VCALENDAR