BEGIN:VCALENDAR
VERSION:2.0
PRODID:-//Space Academy - ECPv4.5.2//NONSGML v1.0//EN
CALSCALE:GREGORIAN
METHOD:PUBLISH
X-WR-CALNAME:Space Academy
X-ORIGINAL-URL:http://spaceacademy.ac.nz
X-WR-CALDESC:Events for Space Academy
BEGIN:VEVENT
DTSTART;TZID=UTC+0:20170622T180000
DTEND;TZID=UTC+0:20170622T180000
DTSTAMP:20180125T154432
CREATED:20170524T073144Z
LAST-MODIFIED:20170524T073144Z
UID:292-1498154400-1498154400@spaceacademy.ac.nz
SUMMARY:Flash in the Pan - National Flash Fiction Day 2017 Christchurch
DESCRIPTION:Prize givings\, guest readers and more! Come hear the winning stories from this year's national competition. All are welcome!\n\nSpecial guests: Heather McQuillan\, NFFD 2017 judge\, youth category\, and winner of the 2017 NFFD competition\n\nCome celebrate with us!\nBecause life is short. And so is some of the best fiction.\nhttps://nationalflash.org/
URL:http://spaceacademy.ac.nz/event/flash-in-the-pan-national-flash-fiction-day-2017-christchurch/
CATEGORIES:spoken word
ATTACH;FMTTYPE=image/jpeg:http://spaceacademy.ac.nz/wp-content/uploads/18193939_1324860720883851_5070248385935536818_n.jpg
END:VEVENT
END:VCALENDAR