BEGIN:VCALENDAR
VERSION:2.0
PRODID:-//Space Academy - ECPv4.5.2//NONSGML v1.0//EN
CALSCALE:GREGORIAN
METHOD:PUBLISH
X-WR-CALNAME:Space Academy
X-ORIGINAL-URL:http://spaceacademy.ac.nz
X-WR-CALDESC:Events for Space Academy
BEGIN:VEVENT
DTSTART;TZID=UTC+0:20170601T180000
DTEND;TZID=UTC+0:20170601T230000
DTSTAMP:20180125T154337
CREATED:20170518T090154Z
LAST-MODIFIED:20170518T090154Z
UID:280-1496340000-1496358000@spaceacademy.ac.nz
SUMMARY:Garage Project 2017 Grape Harvest Launch
DESCRIPTION:\nGarage Project are launching three new beers at the Space Academy on June 1st.\n\nSauvin Nouveau 8.5% - 2017 grape harvest release. NZ hopped pilsner fermented with sauvignon grape juice from Palliser Estate Winery ( Martinborough ). dry finish with floral and fruity notes.\n\n\n \n\n\nRose De La Vallee 9% - 2017 grape harvest release. Crisp pilsner with freshly crushed pinot noir grape juice and rested on pinot noir grape skins for two days. The grapes and juice from Escarpment Winery ( Martinborough ). Light and fruity. \n\n\n \n\n\nChateau Aro 11% - 2016 vintage - Ruby ale conditioned on pinot noir juice and skins from Escarpment Winery. This beer has been aged for one year in French oak barrels. Incredibly smooth\, complex and delicious.\n\n\nCome and give them a taste
URL:http://spaceacademy.ac.nz/event/garage-project-2017-grape-harvest-launch/
CATEGORIES:beer
ATTACH;FMTTYPE=image/png:http://spaceacademy.ac.nz/wp-content/uploads/Grape_harvest_final_1024x1024.png
END:VEVENT
END:VCALENDAR