BEGIN:VCALENDAR
VERSION:2.0
PRODID:-//Space Academy - ECPv4.5.2//NONSGML v1.0//EN
CALSCALE:GREGORIAN
METHOD:PUBLISH
X-WR-CALNAME:Space Academy
X-ORIGINAL-URL:http://spaceacademy.ac.nz
X-WR-CALDESC:Events for Space Academy
BEGIN:VEVENT
DTSTART;TZID=UTC+0:20170707T200000
DTEND;TZID=UTC+0:20170707T200000
DTSTAMP:20180125T154438
CREATED:20170524T075855Z
LAST-MODIFIED:20170524T075855Z
UID:301-1499457600-1499457600@spaceacademy.ac.nz
SUMMARY:Glass Vaults 'The New Happy' Release Tour
DESCRIPTION:Having recently released singles 'Brooklyn' and 'Bleached Blonde'Â Wellington-based outfit Glass Vaults have now let loose their second studio album The New Happy. The record follows on the footsteps of the group's 2014 offering Sojourn\, but sees them reach even deeper into a world of swirling psychedelic indie-pop to pull out nine-songs set to tickle the senses. Earlier this year the band toldÂ Clash in an interview that the record "looks not to emulate a sexual high\, but a deeper\, euphoric wave\, that washes over the body in feelings of comfort and securityâ€¦ a new kind of happy".\n\n \n\nThe New Happy by Glass Vaults
URL:http://spaceacademy.ac.nz/event/glass-vaults-the-new-happy-release-tour/
CATEGORIES:live music,touring bands
ATTACH;FMTTYPE=image/jpeg:http://spaceacademy.ac.nz/wp-content/uploads/glassvaults2017_1240b.jpg
END:VEVENT
END:VCALENDAR