BEGIN:VCALENDAR
VERSION:2.0
PRODID:-//Space Academy - ECPv4.5.2//NONSGML v1.0//EN
CALSCALE:GREGORIAN
METHOD:PUBLISH
X-WR-CALNAME:Space Academy
X-ORIGINAL-URL:http://spaceacademy.ac.nz
X-WR-CALDESC:Events for Space Academy
BEGIN:VEVENT
DTSTART;TZID=UTC+0:20170711T190000
DTEND;TZID=UTC+0:20170711T220000
DTSTAMP:20180125T154447
CREATED:20170620T042014Z
LAST-MODIFIED:20170620T042248Z
UID:311-1499799600-1499810400@spaceacademy.ac.nz
SUMMARY:Introduction to Political Economy: Wage Labour & Capital
DESCRIPTION:"The rock upon which the best economists were stranded as long as they started out from the value of labour\, vanishes as soon as we make our starting-point the value of labour-power. Labour-power is\, in our present-day capitalist society\, a commodity like every other commodity\, but yet a very peculiar commodity. It has\, namely\, the peculiarity of being a value-creating force\, the source of value\, and\, moreover\, when properly treated\, the source of more value than it possesses itself."\n-Engels\, Introduction to Wage Labour & Capital\, 1891.\n\nAt this event we will have a short seminar going over the text\, based on lectures given by Marx in 1847 and designed to be an introduction to the critique of political economy easily understood by working class people of the time.\n\nThis will be followed by some chaired discussion\, and people are welcome to stay and have a drink\, cup of tea\, and a chat afterwards.\n\nWe are hoping to also have self-published copies of the text available to all members as part of becoming a member of the Society\, as well as for purchase for non-members at close-to cost just to help us fundraise a little for future events.\n\nThe text can be read here\, but prior knowledge won't be necessary to hopefully enjoy and getting something out of our discussion:\nhttps://www.marxists.org/archive/marx/works/1847/wage-labour/
URL:http://spaceacademy.ac.nz/event/introduction-to-political-economy-wage-labour-capital/
CATEGORIES:public talk
ATTACH;FMTTYPE=image/jpeg:http://spaceacademy.ac.nz/wp-content/uploads/18921885_1563674563666099_3405897176910317585_n.jpg
END:VEVENT
END:VCALENDAR